BEGIN:VCALENDAR
VERSION:2.0
PRODID:-//Imkerverein Weiden und Umgebung e. V. - ECPv6.15.20//NONSGML v1.0//EN
CALSCALE:GREGORIAN
METHOD:PUBLISH
X-WR-CALNAME:Imkerverein Weiden und Umgebung e. V.
X-ORIGINAL-URL:https://www.imkervereinweiden.de
X-WR-CALDESC:Veranstaltungen für Imkerverein Weiden und Umgebung e. V.
REFRESH-INTERVAL;VALUE=DURATION:PT1H
X-Robots-Tag:noindex
X-PUBLISHED-TTL:PT1H
BEGIN:VTIMEZONE
TZID:Europe/Berlin
BEGIN:DAYLIGHT
TZOFFSETFROM:+0100
TZOFFSETTO:+0200
TZNAME:CEST
DTSTART:20220327T010000
END:DAYLIGHT
BEGIN:STANDARD
TZOFFSETFROM:+0200
TZOFFSETTO:+0100
TZNAME:CET
DTSTART:20221030T010000
END:STANDARD
BEGIN:DAYLIGHT
TZOFFSETFROM:+0100
TZOFFSETTO:+0200
TZNAME:CEST
DTSTART:20230326T010000
END:DAYLIGHT
BEGIN:STANDARD
TZOFFSETFROM:+0200
TZOFFSETTO:+0100
TZNAME:CET
DTSTART:20231029T010000
END:STANDARD
BEGIN:DAYLIGHT
TZOFFSETFROM:+0100
TZOFFSETTO:+0200
TZNAME:CEST
DTSTART:20240331T010000
END:DAYLIGHT
BEGIN:STANDARD
TZOFFSETFROM:+0200
TZOFFSETTO:+0100
TZNAME:CET
DTSTART:20241027T010000
END:STANDARD
END:VTIMEZONE
BEGIN:VEVENT
DTSTART;TZID=Europe/Berlin:20230715T090000
DTEND;TZID=Europe/Berlin:20230715T130000
DTSTAMP:20260420T184139
CREATED:20221201T221244Z
LAST-MODIFIED:20221201T221244Z
UID:611-1689411600-1689426000@www.imkervereinweiden.de
SUMMARY:Erfolgreiche Varroabekämpfung
DESCRIPTION:Erfolgreiche Varroabekämpfung\nBiologie und Bekämpfungsstrategien
URL:https://www.imkervereinweiden.de/event/erfolgreiche-varroabekaempfung/
LOCATION:Freilandmuseum Oberpfalz\, Neusath 200\, Neusath bei Nabburg\, Bayern\, 92507\, Germany
CATEGORIES:Fortbildung
ORGANIZER;CN="Bezirksverband Imker Oberpfalz e.V.":MAILTO:bezirk-oberpfalz@lvbi.de
END:VEVENT
BEGIN:VEVENT
DTSTART;TZID=Europe/Berlin:20230722T090000
DTEND;TZID=Europe/Berlin:20230722T130000
DTSTAMP:20260420T184139
CREATED:20221201T221329Z
LAST-MODIFIED:20221201T221329Z
UID:613-1690016400-1690030800@www.imkervereinweiden.de
SUMMARY:Anfängerkurs Teil V
DESCRIPTION:Anfängerkurs Teil V\nSpätsommerpflege und Einwinterung\n(Varroabehandlung\, Raumsteuerung\, Fütterung\, Wabenerneuerung)
URL:https://www.imkervereinweiden.de/event/anfaengerkurs-teil-v/
LOCATION:Freilandmuseum Oberpfalz\, Neusath 200\, Neusath bei Nabburg\, Bayern\, 92507\, Germany
CATEGORIES:Fortbildung
ORGANIZER;CN="Bezirksverband Imker Oberpfalz e.V.":MAILTO:bezirk-oberpfalz@lvbi.de
END:VEVENT
BEGIN:VEVENT
DTSTART;TZID=Europe/Berlin:20230722T150000
DTEND;TZID=Europe/Berlin:20230722T220000
DTSTAMP:20260420T184139
CREATED:20230115T211633Z
LAST-MODIFIED:20230716T175557Z
UID:648-1690038000-1690063200@www.imkervereinweiden.de
SUMMARY:Sommerfest
DESCRIPTION:Der Imkerverein lädt alle Mitglieder und Familienangehörige herzlich zum diesjährigen Sommer­fest in der Schlossgaststätte Melchner in Rupprechtsreuth ein. Zu Beginn bieten wir für Kinder und Er­wach­sene eine geführte Wanderung mit unserem Kassier und Staatsförster Stefan Schuster zum Thema Wald und Klimawandel an. Die Wanderung führt auf einem leicht begehbaren Rund­weg direkt von Rupp­rechtsreuth auf ca. 2\,5km durch den nahe gelegenen Wald und endet beim Waldspielplatz\, wo sich die Kinder nach dem kurzen Weg noch einmal auspowern können.  \nAnschließend ist Einkehr in der Schlossgaststätte in Rupprechtsreuth. Für das leibliche Wohl sorgt der Imkerverein mit einem Brotzeitbuffet. Bei hoffentlich schönem Wetter freuen wir uns auf ein gemütliches Zusammensein im Bier­garten. Am frühen Abend findet noch ein Workshop mit unserer Bienen­sach­ver­stän­digen Monika Reichel statt\, in welchem sie die praktische Anwendung der Schwammtuchmethode bei der Ameisen­säure­be­handlung erklärt.  \nProgramm: \n15:00 Uhr Start der Wanderung am Wanderparkplatz in Rupprechtsreuth\nca. 16 Uhr Ende am Waldspielplatz mit Spielmöglichkeit für Kinder\nAb ca. 16:30 Uhr Einkehr in der Schlossgaststätte Melchner zum Sommerfest\n18:00 Uhr Workshop Schwammtuchmethode mit Monika Reichel (ca. eine Stunde) \nDie Vorstandschaft bittet um Rückmeldung bis spätestens Mittwoch\, den 19. Juli 2023 am besten per E-Mail an vorstand@imkervereinweiden.de mit wie vielen Personen (Erwachsende + Kinder) teil­ge­nommen wird und wer am Workshop Schwammtuchmethode teilnehmen möchte. \nAls besonderes Highlight würden wir uns freuen\, wenn jeder Imkerkollege ein kleines Glas seines diesjährigen Honigs für ein Honig-Probier-Buffet an diesem Tag mitbringen würde. Der von allen Teilnehmern am besten bewertete Honig erhält eine kleine Auszeichnung. \nDer Vorstandschaft freut sich herzlich auf Euer zahlreiches kommen! \n  \nAnmeldung zum Download:\nEinladung als PDF zum Download
URL:https://www.imkervereinweiden.de/event/sommerfest/
LOCATION:Schlossgaststätte Melchner\, Rupprechtsreuth 1\, Mantel\, Bayern\, 92708\, Deutschland
CATEGORIES:Vereinsleben
END:VEVENT
END:VCALENDAR