BEGIN:VCALENDAR
VERSION:2.0
PRODID:-//Imkerverein Weiden und Umgebung e. V. - ECPv6.15.20//NONSGML v1.0//EN
CALSCALE:GREGORIAN
METHOD:PUBLISH
X-WR-CALNAME:Imkerverein Weiden und Umgebung e. V.
X-ORIGINAL-URL:https://www.imkervereinweiden.de
X-WR-CALDESC:Veranstaltungen für Imkerverein Weiden und Umgebung e. V.
REFRESH-INTERVAL;VALUE=DURATION:PT1H
X-Robots-Tag:noindex
X-PUBLISHED-TTL:PT1H
BEGIN:VTIMEZONE
TZID:Europe/Berlin
BEGIN:DAYLIGHT
TZOFFSETFROM:+0100
TZOFFSETTO:+0200
TZNAME:CEST
DTSTART:20210328T010000
END:DAYLIGHT
BEGIN:STANDARD
TZOFFSETFROM:+0200
TZOFFSETTO:+0100
TZNAME:CET
DTSTART:20211031T010000
END:STANDARD
BEGIN:DAYLIGHT
TZOFFSETFROM:+0100
TZOFFSETTO:+0200
TZNAME:CEST
DTSTART:20220327T010000
END:DAYLIGHT
BEGIN:STANDARD
TZOFFSETFROM:+0200
TZOFFSETTO:+0100
TZNAME:CET
DTSTART:20221030T010000
END:STANDARD
BEGIN:DAYLIGHT
TZOFFSETFROM:+0100
TZOFFSETTO:+0200
TZNAME:CEST
DTSTART:20230326T010000
END:DAYLIGHT
BEGIN:STANDARD
TZOFFSETFROM:+0200
TZOFFSETTO:+0100
TZNAME:CET
DTSTART:20231029T010000
END:STANDARD
END:VTIMEZONE
BEGIN:VEVENT
DTSTART;TZID=Europe/Berlin:20220909T190000
DTEND;TZID=Europe/Berlin:20220909T210000
DTSTAMP:20260421T075520
CREATED:20220901T082735Z
LAST-MODIFIED:20220901T082735Z
UID:486-1662750000-1662757200@www.imkervereinweiden.de
SUMMARY:Imkerversammlung im September
DESCRIPTION:Liebe Imkerinnen und Imker\, \nAm Freitag\, den 9. 9. 2022 findet um 19:00 Uhr in der Gaststätte Schützenhaus in Weiden die Imkerversammlung des Imkervereins Weiden und Umgebung e.V. statt. \nFolgende Programmpunkte sind geplant: \n\nVortrag von Georg Wallisch\nThema: Das neue Tierarzneimittelgesetz – Bedeutung für die Imkerei\nAktuelles aus dem Verein und Verband\nWünsche und Anträge\n\nAuf Euer Kommen freuen sich \nErika Brandl (1.Vorsitzende)\nGeorg Wallisch (2.Vorsitzender) \nEinladung als PDF herunterladen
URL:https://www.imkervereinweiden.de/event/imkerversammlung-im-september/
LOCATION:Gaststätte Schützenhaus\, Hetzenrichter Weg 20\, Weiden\, Bayern\, 92637\, Germany
CATEGORIES:Fortbildung,Vereinsleben
END:VEVENT
BEGIN:VEVENT
DTSTART;TZID=Europe/Berlin:20220925T100000
DTEND;TZID=Europe/Berlin:20220925T170000
DTSTAMP:20260421T075520
CREATED:20220901T084006Z
LAST-MODIFIED:20220901T084006Z
UID:492-1664100000-1664125200@www.imkervereinweiden.de
SUMMARY:16. Neustädter Bauernmarkt 2022
DESCRIPTION:Am Sonntag\, 25.09.2022 findet ab 10.00 Uhr der 16. Neustädter Bauernmarkt mit verschiedenen Auftritten\, Verkauf von landwirtschaftlichen Produkten\, Ausstellung von Landmaschinen und Geräten uvm. statt. Der Imkerverein ist ebenfalls mit einem Stand vertreten.
URL:https://www.imkervereinweiden.de/event/16-neustaedter-bauernmarkt-2022/
LOCATION:Neustadt a.d. Waldnaab\, Freyung\, Neustadt a.d. Waldnaab\, Bayern\, 92660\, Deutschland
CATEGORIES:Aktionen / Veranstaltungen
END:VEVENT
END:VCALENDAR