BEGIN:VCALENDAR
VERSION:2.0
PRODID:-//Imkerverein Weiden und Umgebung e. V. - ECPv6.15.20//NONSGML v1.0//EN
CALSCALE:GREGORIAN
METHOD:PUBLISH
X-ORIGINAL-URL:https://www.imkervereinweiden.de
X-WR-CALDESC:Veranstaltungen für Imkerverein Weiden und Umgebung e. V.
REFRESH-INTERVAL;VALUE=DURATION:PT1H
X-Robots-Tag:noindex
X-PUBLISHED-TTL:PT1H
BEGIN:VTIMEZONE
TZID:Europe/Berlin
BEGIN:DAYLIGHT
TZOFFSETFROM:+0100
TZOFFSETTO:+0200
TZNAME:CEST
DTSTART:20220327T010000
END:DAYLIGHT
BEGIN:STANDARD
TZOFFSETFROM:+0200
TZOFFSETTO:+0100
TZNAME:CET
DTSTART:20221030T010000
END:STANDARD
BEGIN:DAYLIGHT
TZOFFSETFROM:+0100
TZOFFSETTO:+0200
TZNAME:CEST
DTSTART:20230326T010000
END:DAYLIGHT
BEGIN:STANDARD
TZOFFSETFROM:+0200
TZOFFSETTO:+0100
TZNAME:CET
DTSTART:20231029T010000
END:STANDARD
BEGIN:DAYLIGHT
TZOFFSETFROM:+0100
TZOFFSETTO:+0200
TZNAME:CEST
DTSTART:20240331T010000
END:DAYLIGHT
BEGIN:STANDARD
TZOFFSETFROM:+0200
TZOFFSETTO:+0100
TZNAME:CET
DTSTART:20241027T010000
END:STANDARD
END:VTIMEZONE
BEGIN:VEVENT
DTSTART;TZID=Europe/Berlin:20230915T193000
DTEND;TZID=Europe/Berlin:20230915T213000
DTSTAMP:20260420T172242
CREATED:20230115T211715Z
LAST-MODIFIED:20230827T152945Z
UID:650-1694806200-1694813400@www.imkervereinweiden.de
SUMMARY:Monatsversammlung September
DESCRIPTION:Thementausch: Im September Thema Lebensmittelhygiene. \nAchtung\, Beginn erst im 19:30 Uhr.
URL:https://www.imkervereinweiden.de/event/monatsversammlung-september/
LOCATION:Gaststätte Schützenhaus\, Hetzenrichter Weg 20\, Weiden\, Bayern\, 92637\, Germany
CATEGORIES:Monatsversammlung
END:VEVENT
END:VCALENDAR