BEGIN:VCALENDAR
VERSION:2.0
PRODID:-//Imkerverein Weiden und Umgebung e. V. - ECPv6.15.20//NONSGML v1.0//EN
CALSCALE:GREGORIAN
METHOD:PUBLISH
X-ORIGINAL-URL:https://www.imkervereinweiden.de
X-WR-CALDESC:Veranstaltungen für Imkerverein Weiden und Umgebung e. V.
REFRESH-INTERVAL;VALUE=DURATION:PT1H
X-Robots-Tag:noindex
X-PUBLISHED-TTL:PT1H
BEGIN:VTIMEZONE
TZID:Europe/Berlin
BEGIN:DAYLIGHT
TZOFFSETFROM:+0100
TZOFFSETTO:+0200
TZNAME:CEST
DTSTART:20220327T010000
END:DAYLIGHT
BEGIN:STANDARD
TZOFFSETFROM:+0200
TZOFFSETTO:+0100
TZNAME:CET
DTSTART:20221030T010000
END:STANDARD
BEGIN:DAYLIGHT
TZOFFSETFROM:+0100
TZOFFSETTO:+0200
TZNAME:CEST
DTSTART:20230326T010000
END:DAYLIGHT
BEGIN:STANDARD
TZOFFSETFROM:+0200
TZOFFSETTO:+0100
TZNAME:CET
DTSTART:20231029T010000
END:STANDARD
BEGIN:DAYLIGHT
TZOFFSETFROM:+0100
TZOFFSETTO:+0200
TZNAME:CEST
DTSTART:20240331T010000
END:DAYLIGHT
BEGIN:STANDARD
TZOFFSETFROM:+0200
TZOFFSETTO:+0100
TZNAME:CET
DTSTART:20241027T010000
END:STANDARD
END:VTIMEZONE
BEGIN:VEVENT
DTSTART;TZID=Europe/Berlin:20230715T090000
DTEND;TZID=Europe/Berlin:20230715T130000
DTSTAMP:20260420T201438
CREATED:20221201T221244Z
LAST-MODIFIED:20221201T221244Z
UID:611-1689411600-1689426000@www.imkervereinweiden.de
SUMMARY:Erfolgreiche Varroabekämpfung
DESCRIPTION:Erfolgreiche Varroabekämpfung\nBiologie und Bekämpfungsstrategien
URL:https://www.imkervereinweiden.de/event/erfolgreiche-varroabekaempfung/
LOCATION:Freilandmuseum Oberpfalz\, Neusath 200\, Neusath bei Nabburg\, Bayern\, 92507\, Germany
CATEGORIES:Fortbildung
ORGANIZER;CN="Bezirksverband Imker Oberpfalz e.V.":MAILTO:bezirk-oberpfalz@lvbi.de
END:VEVENT
END:VCALENDAR