BEGIN:VCALENDAR
VERSION:2.0
PRODID:-//Imkerverein Weiden und Umgebung e. V. - ECPv6.15.20//NONSGML v1.0//EN
CALSCALE:GREGORIAN
METHOD:PUBLISH
X-ORIGINAL-URL:https://www.imkervereinweiden.de
X-WR-CALDESC:Veranstaltungen für Imkerverein Weiden und Umgebung e. V.
REFRESH-INTERVAL;VALUE=DURATION:PT1H
X-Robots-Tag:noindex
X-PUBLISHED-TTL:PT1H
BEGIN:VTIMEZONE
TZID:Europe/Berlin
BEGIN:DAYLIGHT
TZOFFSETFROM:+0100
TZOFFSETTO:+0200
TZNAME:CEST
DTSTART:20220327T010000
END:DAYLIGHT
BEGIN:STANDARD
TZOFFSETFROM:+0200
TZOFFSETTO:+0100
TZNAME:CET
DTSTART:20221030T010000
END:STANDARD
BEGIN:DAYLIGHT
TZOFFSETFROM:+0100
TZOFFSETTO:+0200
TZNAME:CEST
DTSTART:20230326T010000
END:DAYLIGHT
BEGIN:STANDARD
TZOFFSETFROM:+0200
TZOFFSETTO:+0100
TZNAME:CET
DTSTART:20231029T010000
END:STANDARD
BEGIN:DAYLIGHT
TZOFFSETFROM:+0100
TZOFFSETTO:+0200
TZNAME:CEST
DTSTART:20240331T010000
END:DAYLIGHT
BEGIN:STANDARD
TZOFFSETFROM:+0200
TZOFFSETTO:+0100
TZNAME:CET
DTSTART:20241027T010000
END:STANDARD
END:VTIMEZONE
BEGIN:VEVENT
DTSTART;TZID=Europe/Berlin:20230519T120000
DTEND;TZID=Europe/Berlin:20230519T200000
DTSTAMP:20260420T230312
CREATED:20230422T180223Z
LAST-MODIFIED:20230422T180357Z
UID:703-1684497600-1684526400@www.imkervereinweiden.de
SUMMARY:Mein Weiden - Bunte Vielfalt
DESCRIPTION:Der Imkerverein ist ist beim Aktionstag Mein Weiden – Bunte Vielfalt am Freitag\, den 19. Mai am oberen Markt in Weiden mit einem Stand vertreten. \nWeitere Infos unter https://stadtmarketing-weiden.de/meinweiden-2023/
URL:https://www.imkervereinweiden.de/event/mein-weiden-bunte-vielfalt/
LOCATION:Weidener Innenstadt\, Oberer Markt\, Weiden\, Bayern\, 92637\, Deutschland
CATEGORIES:Aktionen / Veranstaltungen
ORGANIZER;CN="Stadtmarketing Weiden":MAILTO:info@stadtmarketing-weiden.de
END:VEVENT
BEGIN:VEVENT
DTSTART;TZID=Europe/Berlin:20230519T193000
DTEND;TZID=Europe/Berlin:20230519T213000
DTSTAMP:20260420T230312
CREATED:20230115T211449Z
LAST-MODIFIED:20230120T213413Z
UID:644-1684524600-1684531800@www.imkervereinweiden.de
SUMMARY:Monatsversammlung Mai
DESCRIPTION:Thema Schwarmkontrolle und Vorbereitung \nAchtung\, Beginn erst im 19:30 Uhr.
URL:https://www.imkervereinweiden.de/event/monatsversammlung-mai/
LOCATION:Gaststätte Schützenhaus\, Hetzenrichter Weg 20\, Weiden\, Bayern\, 92637\, Germany
CATEGORIES:Monatsversammlung
END:VEVENT
END:VCALENDAR