BEGIN:VCALENDAR
VERSION:2.0
PRODID:-//Imkerverein Weiden und Umgebung e. V. - ECPv6.15.20//NONSGML v1.0//EN
CALSCALE:GREGORIAN
METHOD:PUBLISH
X-WR-CALNAME:Imkerverein Weiden und Umgebung e. V.
X-ORIGINAL-URL:https://www.imkervereinweiden.de
X-WR-CALDESC:Veranstaltungen für Imkerverein Weiden und Umgebung e. V.
REFRESH-INTERVAL;VALUE=DURATION:PT1H
X-Robots-Tag:noindex
X-PUBLISHED-TTL:PT1H
BEGIN:VTIMEZONE
TZID:Europe/Berlin
BEGIN:DAYLIGHT
TZOFFSETFROM:+0100
TZOFFSETTO:+0200
TZNAME:CEST
DTSTART:20220327T010000
END:DAYLIGHT
BEGIN:STANDARD
TZOFFSETFROM:+0200
TZOFFSETTO:+0100
TZNAME:CET
DTSTART:20221030T010000
END:STANDARD
BEGIN:DAYLIGHT
TZOFFSETFROM:+0100
TZOFFSETTO:+0200
TZNAME:CEST
DTSTART:20230326T010000
END:DAYLIGHT
BEGIN:STANDARD
TZOFFSETFROM:+0200
TZOFFSETTO:+0100
TZNAME:CET
DTSTART:20231029T010000
END:STANDARD
BEGIN:DAYLIGHT
TZOFFSETFROM:+0100
TZOFFSETTO:+0200
TZNAME:CEST
DTSTART:20240331T010000
END:DAYLIGHT
BEGIN:STANDARD
TZOFFSETFROM:+0200
TZOFFSETTO:+0100
TZNAME:CET
DTSTART:20241027T010000
END:STANDARD
END:VTIMEZONE
BEGIN:VEVENT
DTSTART;TZID=Europe/Berlin:20230422T090000
DTEND;TZID=Europe/Berlin:20230422T130000
DTSTAMP:20260421T003510
CREATED:20221201T221127Z
LAST-MODIFIED:20221201T221127Z
UID:607-1682154000-1682168400@www.imkervereinweiden.de
SUMMARY:Anfängerkurs Teil III
DESCRIPTION:Anfängerkurs Teil III\nSchwarmtrieblenkung\, Ablegerbildung\, Honigwirtschaft
URL:https://www.imkervereinweiden.de/event/anfaengerkurs-teil-iii/
LOCATION:Freilandmuseum Oberpfalz\, Neusath 200\, Neusath bei Nabburg\, Bayern\, 92507\, Germany
CATEGORIES:Fortbildung
ORGANIZER;CN="Bezirksverband Imker Oberpfalz e.V.":MAILTO:bezirk-oberpfalz@lvbi.de
END:VEVENT
BEGIN:VEVENT
DTSTART;TZID=Europe/Berlin:20230422T190000
DTEND;TZID=Europe/Berlin:20230422T220000
DTSTAMP:20260421T003510
CREATED:20220901T222233Z
LAST-MODIFIED:20230404T101805Z
UID:496-1682190000-1682200800@www.imkervereinweiden.de
SUMMARY:Festvortrag anlässlich des Vereinsjubiläums
DESCRIPTION:Am Samstag\, den 22.04.2023\, lädt der Imkerverein alle Interessierten zum nachgeholten Festvortrag anlässlich des Vereinsjubiläums ins Schützhaus ein. Der Autor und Landschaftsgärtner Thomas Janscheck referiert zum Thema „Altes Gartenwissen neu entdeckt“. \nDie Veranstaltung steht allen Interessierten offen. Der Imkerverein freut sich über einen zahlreichen Besuch. \nInformationen zum Vortrag und Referent\nAutor Thomas Janscheck referiert zum Thema „Altes Gartenwissen neu entdeckt“. Seine Erkenntnis dazu ist\, dass es für die Menschen einst lebensnotwendig war\, den Sonnenlaufes und die Einteilung des Jahreskreises nach Anbauzeiten der Feldfrüchte zu kennen. Durch Beobachtung und Einfühlung in die Naturzusammenhänge entstanden über Generationen hinweg ein reichhaltiger Erfahrungsschatz\, der sich durch ein faszinierendes Ordnungssystem des Jahreskreises in Lostagen und Naturregeln wiederspiegelt. Der Vortrag gibt einen Einblick in die Einteilung des Gartenjahres innerhalb des Jahreskreises\, veranschaulicht die Zusammenhänge guter Gartenpraxis und gesunder Pflanzen\, zeigt vergessene Gartenpflanzen und deren Bedeutung und gibt Tipps\, den eignen Garten in einen Naturerlebnisraum zu verwandeln. \nReferent\nDer gebürtige Münchner Thomas Janscheck\, Jahrgang 1970\, machte nach seinem Abitur eine Ausbildung zum Landschaftsgärtner. Im Anschluss daran studierte er Gartenbau in Weihenstephan und schloss sein Studium als Diplom-Ingenieur (FH) ab. \nDer Autor der Reihe „Von Baum zu Baum“ bietet neben Fachvorträgen und Seminare zu gartenbaulichen Themen Praxiskurse für Obstgehölzschnitt\, Rosenpflege\, Brauen mit Wildkräutern an. Daneben lehrt er im Bereich Garten- und Naturpädagogik u.a. in der Lehrerakademie Dillingen und referiert in Rundfunksendungen zu Pflanzen- und Gartenthemen im BR. \n  \n 
URL:https://www.imkervereinweiden.de/event/jubilaeumsfeier/
LOCATION:Gaststätte Schützenhaus\, Hetzenrichter Weg 20\, Weiden\, Bayern\, 92637\, Germany
CATEGORIES:Monatsversammlung,Vereinsleben
END:VEVENT
END:VCALENDAR