BEGIN:VCALENDAR
VERSION:2.0
PRODID:-//Imkerverein Weiden und Umgebung e. V. - ECPv6.15.20//NONSGML v1.0//EN
CALSCALE:GREGORIAN
METHOD:PUBLISH
X-WR-CALNAME:Imkerverein Weiden und Umgebung e. V.
X-ORIGINAL-URL:https://www.imkervereinweiden.de
X-WR-CALDESC:Veranstaltungen für Imkerverein Weiden und Umgebung e. V.
REFRESH-INTERVAL;VALUE=DURATION:PT1H
X-Robots-Tag:noindex
X-PUBLISHED-TTL:PT1H
BEGIN:VTIMEZONE
TZID:Europe/Berlin
BEGIN:DAYLIGHT
TZOFFSETFROM:+0100
TZOFFSETTO:+0200
TZNAME:CEST
DTSTART:20210328T010000
END:DAYLIGHT
BEGIN:STANDARD
TZOFFSETFROM:+0200
TZOFFSETTO:+0100
TZNAME:CET
DTSTART:20211031T010000
END:STANDARD
BEGIN:DAYLIGHT
TZOFFSETFROM:+0100
TZOFFSETTO:+0200
TZNAME:CEST
DTSTART:20220327T010000
END:DAYLIGHT
BEGIN:STANDARD
TZOFFSETFROM:+0200
TZOFFSETTO:+0100
TZNAME:CET
DTSTART:20221030T010000
END:STANDARD
BEGIN:DAYLIGHT
TZOFFSETFROM:+0100
TZOFFSETTO:+0200
TZNAME:CEST
DTSTART:20230326T010000
END:DAYLIGHT
BEGIN:STANDARD
TZOFFSETFROM:+0200
TZOFFSETTO:+0100
TZNAME:CET
DTSTART:20231029T010000
END:STANDARD
END:VTIMEZONE
BEGIN:VEVENT
DTSTART;TZID=Europe/Berlin:20221112T150000
DTEND;TZID=Europe/Berlin:20221112T180000
DTSTAMP:20260421T063732
CREATED:20221019T174700Z
LAST-MODIFIED:20221019T174700Z
UID:547-1668265200-1668276000@www.imkervereinweiden.de
SUMMARY:Vereinsfeier 60 Jahre Imkerverein Jahresabschluss
DESCRIPTION:Am Samstag\, den 12.11.2022 findet im Schützenhaus Weiden unsere Vereinsfeier zum 60jährigem Bestehen des Imkervereins Weiden und Umgebung l statt. \nAlle Vereinsmitglieder und ihre Familien sind herzlich eingeladen ab 15 Uhr bei Kaffee und Kuchen den Jahresabschluss zu feiern. \nWeiterhin ist geplant unseren Jungimkern der letzten Saisonen ihre Urkunden für den erfolgreichen Abschluss des Probeimkers zu verleihen. \nNach dem offiziellen Teil bis ca. 18 Uhr bietet das Schützenhaus mit seiner reichlichen Speisekarte Möglichkeit für ein gemeinsames Abendessen. \n  \n  \n 
URL:https://www.imkervereinweiden.de/event/vereinsfeier-60-jahre-imkerverein-jahresabschluss/
LOCATION:Gaststätte Schützenhaus\, Hetzenrichter Weg 20\, Weiden\, Bayern\, 92637\, Germany
CATEGORIES:Jungimker,Vereinsleben
END:VEVENT
END:VCALENDAR